BEGIN:VCALENDAR
VERSION:2.0
PRODID:-//Kaspermusic - ECPv4.9.11//NONSGML v1.0//EN
CALSCALE:GREGORIAN
METHOD:PUBLISH
X-WR-CALNAME:Kaspermusic
X-ORIGINAL-URL:http://kaspermusic.com
X-WR-CALDESC:Events for Kaspermusic
BEGIN:VTIMEZONE
TZID:UTC
BEGIN:STANDARD
TZOFFSETFROM:+0000
TZOFFSETTO:+0000
TZNAME:UTC
DTSTART:20180101T000000
END:STANDARD
END:VTIMEZONE
BEGIN:VEVENT
DTSTART;TZID=UTC:20181119T080000
DTEND;TZID=UTC:20181124T170000
DTSTAMP:20260425T155022
CREATED:20180630T234132Z
LAST-MODIFIED:20180630T234132Z
UID:1158-1542614400-1543078800@kaspermusic.com
SUMMARY:Closed for Thanksgiving Week
DESCRIPTION:12South Kaspermusic Conservatory is closed during the entire week for the Thanksgiving holiday. No Kaspermusic Lessons M-Sa!  \nThis week is not billed\, and therefore\, no make-up lessons need be scheduled. \nRegular lessons resume on Monday\, November 26. \n
URL:http://kaspermusic.com/event/closed-for-thanksgiving-week-2/
LOCATION:12South Kaspermusic Conservatory\, 927 Battlefield Drive\, Nashville\, TN\, 37204\, United States
ORGANIZER;CN="J.%20%26%20J.%20Kasper":MAILTO:info@Kaspermusic.com
END:VEVENT
END:VCALENDAR