BEGIN:VCALENDAR
VERSION:2.0
PRODID:-//Kaspermusic - ECPv4.9.11//NONSGML v1.0//EN
CALSCALE:GREGORIAN
METHOD:PUBLISH
X-WR-CALNAME:Kaspermusic
X-ORIGINAL-URL:http://kaspermusic.com
X-WR-CALDESC:Events for Kaspermusic
BEGIN:VTIMEZONE
TZID:UTC
BEGIN:STANDARD
TZOFFSETFROM:+0000
TZOFFSETTO:+0000
TZNAME:UTC
DTSTART:20190101T000000
END:STANDARD
END:VTIMEZONE
BEGIN:VEVENT
DTSTART;TZID=UTC:20190617T080000
DTEND;TZID=UTC:20190621T160000
DTSTAMP:20260425T104430
CREATED:20190121T021505Z
LAST-MODIFIED:20190121T022210Z
UID:1189-1560758400-1561132800@kaspermusic.com
SUMMARY:Guitar & Piano Jam Camp!
DESCRIPTION:Kaspermusic will be teaching two JAM CAMPS at University School of Nashville Monday-Friday\, June 17-21: one in the morning at 8:00-11:30 AM\, and one in the afternoon at 12:30-4:00 PM. Register in advance. This camp sells out quickly! \n[Jocelyn and Jonathan Kasper will also be teaching this fun camp\, or their Sing-Along Songfest\, at their home M-F\, July 8-12 at 9:00 AM – 12 noon ($200; $175 early-bird rate by April 15). Between care is optional 12-1 PM\, $10/student/day. Child brings own lunch.] \n
URL:http://kaspermusic.com/event/guitar-piano-jam-camp-2/
LOCATION:University School of Nashville\, 2000 Edgehill Ave\, Nashville\, TN\, 37212\, United States
ORGANIZER;CN="J.%20%26%20J.%20Kasper":MAILTO:info@Kaspermusic.com
END:VEVENT
END:VCALENDAR