BEGIN:VCALENDAR
VERSION:2.0
PRODID:-//Kaspermusic - ECPv4.9.11//NONSGML v1.0//EN
CALSCALE:GREGORIAN
METHOD:PUBLISH
X-WR-CALNAME:Kaspermusic
X-ORIGINAL-URL:http://kaspermusic.com
X-WR-CALDESC:Events for Kaspermusic
BEGIN:VTIMEZONE
TZID:UTC
BEGIN:STANDARD
TZOFFSETFROM:+0000
TZOFFSETTO:+0000
TZNAME:UTC
DTSTART:20180101T000000
END:STANDARD
END:VTIMEZONE
BEGIN:VEVENT
DTSTART;VALUE=DATE:20180723
DTEND;VALUE=DATE:20180724
DTSTAMP:20260425T215710
CREATED:20180630T224224Z
LAST-MODIFIED:20180630T235303Z
UID:1143-1532304000-1532390399@kaspermusic.com
SUMMARY:Invitation to Register for 2018-2019 Lessons
DESCRIPTION:Keep an eye out for emails from 12South Kaspermusic Conservatory for any advance specials for the coming new school year. \nAlso watch for your INVITATION TO REGISTER FOR KASPERMUSIC LESSONS 2018-2019\, usually sent on a blue Mailchimp format. \nOnce you fill out and submit your current Enrollment Application and make your tuition payment\, you’re all set.  \nWe’ll confirm your regular fall time slot closer to our first starting day\, Monday\, Labor Day\, September 3. \n
URL:http://kaspermusic.com/event/invitation-to-register/
LOCATION:12South Kaspermusic Conservatory\, 927 Battlefield Drive\, Nashville\, TN\, 37204\, United States
END:VEVENT
END:VCALENDAR