BEGIN:VCALENDAR
VERSION:2.0
PRODID:-//Kaspermusic - ECPv4.9.11//NONSGML v1.0//EN
CALSCALE:GREGORIAN
METHOD:PUBLISH
X-WR-CALNAME:Kaspermusic
X-ORIGINAL-URL:http://kaspermusic.com
X-WR-CALDESC:Events for Kaspermusic
BEGIN:VTIMEZONE
TZID:UTC
BEGIN:STANDARD
TZOFFSETFROM:+0000
TZOFFSETTO:+0000
TZNAME:UTC
DTSTART:20180101T000000
END:STANDARD
END:VTIMEZONE
BEGIN:VEVENT
DTSTART;TZID=UTC:20180401T000000
DTEND;TZID=UTC:20180403T000000
DTSTAMP:20260426T024810
CREATED:20180312T193549Z
LAST-MODIFIED:20180312T193611Z
UID:1132-1522540800-1522713600@kaspermusic.com
SUMMARY:Kaspermusic closed over Easter.
DESCRIPTION:12South Kaspermusic Conservatory will be closed for a long Easter weekend roughly Thursday\, March 29 through Tuesday\, April 3\, 2018.  \nIf your regular lesson falls on one of these dates\, we will need to provide make-up lessons at mutual convenience. You may double up on another week or reschedule to a separate day. \nAnd students always have the option to apply any lesson credit to our master class fees. Please see our event description at April 15. Thanks for your flexibility! \nREMINDER: Deadline for our SUPER SUMMER SPECIAL is midnight Sunday\, April 1. Currently enrolled students may pay for eight summer flex lessons and receive an additional two for FREE! \n
URL:http://kaspermusic.com/event/kaspermusic-closed-over-easter-2/
LOCATION:12South Kaspermusic Conservatory\, 927 Battlefield Drive\, Nashville\, TN\, 37204\, United States
ORGANIZER;CN="J.%20%26%20J.%20Kasper":MAILTO:info@Kaspermusic.com
END:VEVENT
END:VCALENDAR