BEGIN:VCALENDAR
VERSION:2.0
PRODID:-//Kaspermusic - ECPv4.9.11//NONSGML v1.0//EN
CALSCALE:GREGORIAN
METHOD:PUBLISH
X-WR-CALNAME:Kaspermusic
X-ORIGINAL-URL:http://kaspermusic.com
X-WR-CALDESC:Events for Kaspermusic
BEGIN:VTIMEZONE
TZID:UTC
BEGIN:STANDARD
TZOFFSETFROM:+0000
TZOFFSETTO:+0000
TZNAME:UTC
DTSTART:20190101T000000
END:STANDARD
END:VTIMEZONE
BEGIN:VEVENT
DTSTART;TZID=UTC:20190107T080000
DTEND;TZID=UTC:20190107T170000
DTSTAMP:20260425T141215
CREATED:20190121T011823Z
LAST-MODIFIED:20190121T011920Z
UID:1174-1546848000-1546880400@kaspermusic.com
SUMMARY:Kaspermusic Lessons Resume
DESCRIPTION:All Kaspermusic Lessons resume in the New Year on Jan 7\, 2019. \nIt’s not too late to sign up! Those registering mid-semester will have their tuition prorated. \n
URL:http://kaspermusic.com/event/kaspermusic-lessons-resume/
LOCATION:12South Kaspermusic Conservatory\, 927 Battlefield Drive\, Nashville\, TN\, 37204\, United States
ORGANIZER;CN="J.%20%26%20J.%20Kasper":MAILTO:info@Kaspermusic.com
END:VEVENT
END:VCALENDAR