BEGIN:VCALENDAR
VERSION:2.0
PRODID:-//Kaspermusic - ECPv4.9.11//NONSGML v1.0//EN
CALSCALE:GREGORIAN
METHOD:PUBLISH
X-WR-CALNAME:Kaspermusic
X-ORIGINAL-URL:http://kaspermusic.com
X-WR-CALDESC:Events for Kaspermusic
BEGIN:VTIMEZONE
TZID:UTC
BEGIN:STANDARD
TZOFFSETFROM:+0000
TZOFFSETTO:+0000
TZNAME:UTC
DTSTART:20190101T000000
END:STANDARD
END:VTIMEZONE
BEGIN:VEVENT
DTSTART;TZID=UTC:20190623T130000
DTEND;TZID=UTC:20190623T170000
DTSTAMP:20260425T122113
CREATED:20190121T021059Z
LAST-MODIFIED:20190121T021059Z
UID:1187-1561294800-1561309200@kaspermusic.com
SUMMARY:Kaspermusic Master Classes
DESCRIPTION:Vocal Master Class at 1:00-3:00 PM with Jocelyn Kasper. Jeff Lisenby accompanying on piano. $60/participant; $30/auditor. \nGuitar & Piano Master Class at 3:30-5:00 PM with Jonathan and Jocelyn Kasper. $50/participant; $25/auditor. \nA great opportunity for a summer check-up! \nSee website for details\, or call us at 615-383-8516. \n
URL:http://kaspermusic.com/event/kaspermusic-master-classes-10/
LOCATION:12South Kaspermusic Conservatory\, 927 Battlefield Drive\, Nashville\, TN\, 37204\, United States
ORGANIZER;CN="J.%20%26%20J.%20Kasper":MAILTO:info@Kaspermusic.com
END:VEVENT
END:VCALENDAR