BEGIN:VCALENDAR
VERSION:2.0
PRODID:-//Kaspermusic - ECPv4.9.11//NONSGML v1.0//EN
CALSCALE:GREGORIAN
METHOD:PUBLISH
X-WR-CALNAME:Kaspermusic
X-ORIGINAL-URL:http://kaspermusic.com
X-WR-CALDESC:Events for Kaspermusic
BEGIN:VTIMEZONE
TZID:UTC
BEGIN:STANDARD
TZOFFSETFROM:+0000
TZOFFSETTO:+0000
TZNAME:UTC
DTSTART:20190101T000000
END:STANDARD
END:VTIMEZONE
BEGIN:VEVENT
DTSTART;TZID=UTC:20190309T080000
DTEND;TZID=UTC:20190324T170000
DTSTAMP:20260425T103927
CREATED:20190121T023750Z
LAST-MODIFIED:20190227T202417Z
UID:1195-1552118400-1553446800@kaspermusic.com
SUMMARY:Kaspermusic Spring Break
DESCRIPTION:12South Kaspermusic Conservatory will be closed for spring break roughly March 9-24\, 2019.  \nWe do not bill for this period\, so you will not need make-up lessons. \nIf our break does not jive with your school’s spring break\, we can give you a make-up lesson if you’ll be out of town during your week off. Please remember to give us at least a 24-hour advance notice of your absence for make-up credit. Thanks! \n
URL:http://kaspermusic.com/event/kaspermusic-spring-break-2/
LOCATION:12South Kaspermusic Conservatory\, 927 Battlefield Drive\, Nashville\, TN\, 37204\, United States
ORGANIZER;CN="J.%20%26%20J.%20Kasper":MAILTO:info@Kaspermusic.com
END:VEVENT
END:VCALENDAR