BEGIN:VCALENDAR
VERSION:2.0
PRODID:-//Kaspermusic - ECPv4.9.11//NONSGML v1.0//EN
CALSCALE:GREGORIAN
METHOD:PUBLISH
X-WR-CALNAME:Kaspermusic
X-ORIGINAL-URL:http://kaspermusic.com
X-WR-CALDESC:Events for Kaspermusic
BEGIN:VTIMEZONE
TZID:UTC
BEGIN:STANDARD
TZOFFSETFROM:+0000
TZOFFSETTO:+0000
TZNAME:UTC
DTSTART:20180101T000000
END:STANDARD
END:VTIMEZONE
BEGIN:VEVENT
DTSTART;VALUE=DATE:20180827
DTEND;VALUE=DATE:20180828
DTSTAMP:20260425T203224
CREATED:20180630T225758Z
LAST-MODIFIED:20180630T235417Z
UID:1148-1535328000-1535414399@kaspermusic.com
SUMMARY:Last Call for time slots!
DESCRIPTION:We’re an independent music conservatory and don’t really have deadlines for sign-ups. But we do want you to get the time slot of your choice for next week. First come\, first served! \nPlease make sure you’ve submitted a current Enrollment Application and have made your tuition payment. Thank you. Can’t wait to see everybody next week! \n
URL:http://kaspermusic.com/event/last-call/
LOCATION:12South Kaspermusic Conservatory\, 927 Battlefield Drive\, Nashville\, TN\, 37204\, United States
ORGANIZER;CN="J.%20%26%20J.%20Kasper":MAILTO:info@Kaspermusic.com
END:VEVENT
END:VCALENDAR