BEGIN:VCALENDAR
VERSION:2.0
PRODID:-//Kaspermusic - ECPv4.9.11//NONSGML v1.0//EN
CALSCALE:GREGORIAN
METHOD:PUBLISH
X-WR-CALNAME:Kaspermusic
X-ORIGINAL-URL:http://kaspermusic.com
X-WR-CALDESC:Events for Kaspermusic
BEGIN:VTIMEZONE
TZID:UTC
BEGIN:STANDARD
TZOFFSETFROM:+0000
TZOFFSETTO:+0000
TZNAME:UTC
DTSTART:20180101T000000
END:STANDARD
END:VTIMEZONE
BEGIN:VEVENT
DTSTART;TZID=UTC:20181209T130000
DTEND;TZID=UTC:20181209T150000
DTSTAMP:20260425T154605
CREATED:20180630T231323Z
LAST-MODIFIED:20180630T231538Z
UID:1154-1544360400-1544367600@kaspermusic.com
SUMMARY:Private Voice Students-only Recital
DESCRIPTION:Students currently enrolled in Private Voice Lessons have an opportunity to perform for one another. No charge. No outside audience. \nThree memorized pieces accompanied by professional pianist. Performances filmed and saved. \nEveryone offers one another feedback in writing which will be shared at their next private lesson with parents. \n
URL:http://kaspermusic.com/event/private-voice-students-only-recital-2/
LOCATION:12South Kaspermusic Conservatory\, 927 Battlefield Drive\, Nashville\, TN\, 37204\, United States
ORGANIZER;CN="Jocelyn%20Kasper":MAILTO:info@Kaspermusic.com
END:VEVENT
END:VCALENDAR