BEGIN:VCALENDAR
VERSION:2.0
PRODID:-//Kaspermusic - ECPv4.9.11//NONSGML v1.0//EN
CALSCALE:GREGORIAN
METHOD:PUBLISH
X-WR-CALNAME:Kaspermusic
X-ORIGINAL-URL:http://kaspermusic.com
X-WR-CALDESC:Events for Kaspermusic
BEGIN:VTIMEZONE
TZID:UTC
BEGIN:STANDARD
TZOFFSETFROM:+0000
TZOFFSETTO:+0000
TZNAME:UTC
DTSTART:20190101T000000
END:STANDARD
END:VTIMEZONE
BEGIN:VEVENT
DTSTART;TZID=UTC:20190624T080000
DTEND;TZID=UTC:20190628T113000
DTSTAMP:20260425T133617
CREATED:20190121T020757Z
LAST-MODIFIED:20190121T022125Z
UID:1185-1561363200-1561721400@kaspermusic.com
SUMMARY:Sing-Along Songfest!
DESCRIPTION:Kaspermusic will be teaching a SING-ALONG SONGFEST CAMP at University School of Nashville Monday-Friday\, June 24-28 at 8:00-11:30 AM. Register in advance.  \n[Jocelyn and Jonathan Kasper will also be teaching this fun camp\, or Guitar & Piano Jam\, at their home M-F\, July 8-12 at 9:00 AM – 12 noon ($200; $175 early-bird by April 15). Between care is optional 12-1 PM\, $10/student/day. Child brings own lunch.] \n
URL:http://kaspermusic.com/event/sing-along-songfest-2/
LOCATION:University School of Nashville\, 2000 Edgehill Ave\, Nashville\, TN\, 37212\, United States
ORGANIZER;CN="J.%20%26%20J.%20Kasper":MAILTO:info@Kaspermusic.com
END:VEVENT
END:VCALENDAR