BEGIN:VCALENDAR
VERSION:2.0
PRODID:-//Kaspermusic - ECPv4.9.11//NONSGML v1.0//EN
CALSCALE:GREGORIAN
METHOD:PUBLISH
X-WR-CALNAME:Kaspermusic
X-ORIGINAL-URL:http://kaspermusic.com
X-WR-CALDESC:Events for Kaspermusic
BEGIN:VTIMEZONE
TZID:UTC
BEGIN:STANDARD
TZOFFSETFROM:+0000
TZOFFSETTO:+0000
TZNAME:UTC
DTSTART:20180101T000000
END:STANDARD
END:VTIMEZONE
BEGIN:VEVENT
DTSTART;TZID=UTC:20180702T150000
DTEND;TZID=UTC:20180702T190000
DTSTAMP:20260425T234021
CREATED:20180630T223245Z
LAST-MODIFIED:20180630T223303Z
UID:1141-1530543600-1530558000@kaspermusic.com
SUMMARY:Summertime Kaspermusic Lessons
DESCRIPTION:Jocelyn and Jonathan Kasper are available to teach summer lessons through the remainder of July and August. \nStudents currently enrolled or who were during the 2017-18 school year are eligible for specials. These lessons must be completed by students and/or a family member by August 31\, 2018. \nWhile we still prefer a 24-hours advance cancellation notice\, lessons are arranged on a flex schedule. Summer courtesy email reminders are sent on the day of your lesson. \n
URL:http://kaspermusic.com/event/summertime-kaspermusic-lessons/
LOCATION:12South Kaspermusic Conservatory\, 927 Battlefield Drive\, Nashville\, TN\, 37204\, United States
ORGANIZER;CN="J.%20%26%20J.%20Kasper":MAILTO:info@Kaspermusic.com
END:VEVENT
END:VCALENDAR