BEGIN:VCALENDAR
VERSION:2.0
PRODID:-//Kaspermusic - ECPv4.9.11//NONSGML v1.0//EN
CALSCALE:GREGORIAN
METHOD:PUBLISH
X-WR-CALNAME:Kaspermusic
X-ORIGINAL-URL:http://kaspermusic.com
X-WR-CALDESC:Events for Kaspermusic
BEGIN:VTIMEZONE
TZID:UTC
BEGIN:STANDARD
TZOFFSETFROM:+0000
TZOFFSETTO:+0000
TZNAME:UTC
DTSTART:20190101T000000
END:STANDARD
END:VTIMEZONE
BEGIN:VEVENT
DTSTART;TZID=UTC:20190525T110000
DTEND;TZID=UTC:20190525T123000
DTSTAMP:20260425T032434
CREATED:20190516T173735Z
LAST-MODIFIED:20190516T180216Z
UID:1219-1558782000-1558787400@kaspermusic.com
SUMMARY:WILLIAM INMAN Solo Senior Recital
DESCRIPTION:William Inman\, Guitar \nKaspermusic Conservatory presents graduating senior WILLIAM INMAN in a solo guitar recital of his favorite selections. This recital will be held at 12South Kaspermusic Conservatory\, 927 Battlefield Drive\, Nashville\, TN\, 37204. Free and open to the public. Overflow parking on Craig Avenue under the I-440 overpass. \n
URL:http://kaspermusic.com/event/william-inman-solo-senior-recital/
LOCATION:12South Kaspermusic Conservatory\, 927 Battlefield Drive\, Nashville\, TN\, 37204\, United States
ORGANIZER;CN="Jonathan%20Kasper":MAILTO:info@Kaspermusic.com
END:VEVENT
END:VCALENDAR